Workbook

Sheet EN Com.Spec.
D1: Effectivedate: | E1: 43579
B2: PRODUCT INFORMATION
A3: Product name | B3: HNZ Sweet chili sauce (6 x 875ml)
A4: Article number | B4: 76014441
A5: Net weight/Drained weight | B5: 6 x 875 ml (e 1070 g)
A6: EAN code | B6: Bottle | C6: 5000157142818 | D6: Tray | E6: 5000157142801
A7: Ingrediënt declaration | B7: Sugar, water, spirit vinegar, tomato puree, garlic, modified cornstarch, bell peppers, chili 1,5%, salt, spice.
A8: Nutritional data | B8: per 100 gram product | D8: per 100 gram prepared product
A9: Energy | B9: 762/179 | C9: kJ / kcal | E9: kJ / kcal
A10: Fat | B10: 0.1 | C10: g | E10: g
A11: (saturated fat) | B11: 0 | C11: g | E11: g
A12: Carbohydrates | B12: 44 | C12: g | E12: g
A13: (sugars) | B13: 42 | C13: g | E13: g
A14: Protein | B14: 0.4 | C14: g | E14: g
A15: Salt | B15: 1.3 | C15: g | E15: g
A16: Fibre | B16: 0.4 | C16: g | E16: g
A17: Product description/ Usage | B17: A slightly thick and sweet sauce with chili and garlic. Without conservatives.
A18: Preparation / Dosing | B18: No preparation.
A19: Microbiological data
A20: Total plate count | B20: <1000 | C20: cfu/ml
A21: Moulds and Yeast | B21: <50 | C21: cfu/ml
A22: Lactobacillus | B22: <50 | C22: cfu/ml
A23: Staphylococcus aureus | C23: cfu/g / per 0.01 g
A24: Salmonellae | C24: per 25 g
A25: Enterobacteriaceae | C25: cfu/g
A26: Analytical data
A27: Dry matter | C27: %
A28: Salt | B28: 1,25-1,40 | C28: %
A29: pH | B29: 3,4-3,6
A30: Brix | B30: 42-48 | C30: °
A31: Acid | B31: 0,65-0,80 | C31: %
A32: Suitable for: | B32: Halal: | C32: no | D32: Vegetarian: | E32: yes
B33: Kosher badatz: | C33: no | D33: Vegan: | E33: yes
D34: Gluten free (gluten < 20ppm) | E34: no
A35: GMO | B35: All used ingredients are non-GMO or non-GMO by IP based upon suppliers certificates.
A36: Coding on packaging | B36: BB : DD.MM.YYYY, HH:MM LYYJJJL4. D - day, M - Month, Y - Year, HH - Hour, MM - Minute, Lotnumber, L4 - Line number
A37: Shelf life/Storage conditions | B37: 12 | C37: months after production. | D37: 4 | E37: weeks after opening ambient temperature
A38: Packaging material/dimensions | C38: primary | D38: secondary | E38: tertiary
B39: type,sort | C39: PET bottle + PP cap + label | D39: Cardboard tray + shrinkfoil
B40: dimensions (w x d x h) | C40: 67,1 x 93,5 x 260 | D40: 209 x 192 x 263
B41: weight (g) | C41: Pet 42, PP 4,5 | D41: 42 g + 26 g
B42: % reclycleble | C42: 1 | D42: 1
A43: Country of origine | B43: Production in: | C43: EU
B44: The product is produced according to the Dutch and EU-legislation.
A60: yes/no
A61: yes
A62: no

Sheet NL Com.Spec.
D1: Ingangsdatum: | E1: =IF('EN Com.Spec.'!E1=""," ",'EN Com.Spec.'!E1) -> 43579
B2: PRODUCT INFORMATIE
A3: Productnaam | B3: HNZ Sweet chili sauce (6 x 875ml)
A4: Artikel nummer | B4: =IF('EN Com.Spec.'!B4:E4=""," ",'EN Com.Spec.'!B4:E4) -> 76014441
A5: Netto inhoud/Uitlekgewicht | B5: =IF('EN Com.Spec.'!B5:E5=""," ",'EN Com.Spec.'!B5:E5) -> 6 x 875 ml (e 1070 g)
A6: EAN code | B6: Fles | C6: =IF('EN Com.Spec.'!C6:F6=""," ",'EN Com.Spec.'!C6:F6) -> 5000157142818 | D6: Doos | E6: =IF('EN Com.Spec.'!E6:H6=""," ",'EN Com.Spec.'!E6:H6) -> 5000157142801
A7: Ingrediëntendeclaratie | B7: Water, zonnebloemolie, azijn, suiker, gemodicifeerd maïszetmeel, eigeel*, gefrituurde ui 1,3% (ui, zonnebloemolie), zout, mosterdmeel, natuurlijke aroma, knoflook poeder, zwarte peper, kleurstof : karamel. *van eieren van hennen van vrije uitloop
A8: Voedingswaarde | B8: per 100 gram product | D8: per 100 gram bereid product
A9: Energie | B9: =IF('EN Com.Spec.'!B9=""," ",'EN Com.Spec.'!B9) -> 762/179 | C9: ='EN Com.Spec.'!C9:D9 -> kJ / kcal | D9: =IF('EN Com.Spec.'!D9=""," ",'EN Com.Spec.'!D9) | E9: ='EN Com.Spec.'!E9:F9 -> kJ / kcal
A10: Vet | B10: =IF('EN Com.Spec.'!B10=""," ",'EN Com.Spec.'!B10) -> 0.1 | C10: ='EN Com.Spec.'!C10:D10 -> g | D10: =IF('EN Com.Spec.'!D10=""," ",'EN Com.Spec.'!D10) | E10: ='EN Com.Spec.'!E10:F10 -> g
A11: (waarvan verzadigd vet) | B11: =IF('EN Com.Spec.'!B11=""," ",'EN Com.Spec.'!B11) -> 0 | C11: ='EN Com.Spec.'!C11:D11 -> g | D11: =IF('EN Com.Spec.'!D11=""," ",'EN Com.Spec.'!D11) | E11: ='EN Com.Spec.'!E11:F11 -> g
A12: Koolhydraten | B12: =IF('EN Com.Spec.'!B12=""," ",'EN Com.Spec.'!B12) -> 44 | C12: ='EN Com.Spec.'!C12:D12 -> g | D12: =IF('EN Com.Spec.'!D12=""," ",'EN Com.Spec.'!D12) | E12: ='EN Com.Spec.'!E12:F12 -> g
A13: (waarvan suikers) | B13: =IF('EN Com.Spec.'!B13=""," ",'EN Com.Spec.'!B13) -> 42 | C13: ='EN Com.Spec.'!C13:D13 -> g | D13: =IF('EN Com.Spec.'!D13=""," ",'EN Com.Spec.'!D13) | E13: ='EN Com.Spec.'!E13:F13 -> g
A14: Eiwit | B14: =IF('EN Com.Spec.'!B14=""," ",'EN Com.Spec.'!B14) -> 0.4 | C14: ='EN Com.Spec.'!C14:D14 -> g | D14: =IF('EN Com.Spec.'!D14=""," ",'EN Com.Spec.'!D14) | E14: ='EN Com.Spec.'!E14:F14 -> g
A15: Zout | B15: =IF('EN Com.Spec.'!B15=""," ",'EN Com.Spec.'!B15) -> 1.3 | C15: ='EN Com.Spec.'!C15:D15 -> g | D15: =IF('EN Com.Spec.'!D15=""," ",'EN Com.Spec.'!D15) | E15: ='EN Com.Spec.'!E15:F15 -> g
A16: Voedingsvezel | B16: =IF('EN Com.Spec.'!B16=""," ",'EN Com.Spec.'!B16) -> 0.4 | C16: ='EN Com.Spec.'!C16:D16 -> g | D16: =IF('EN Com.Spec.'!D16=""," ",'EN Com.Spec.'!D16) | E16: ='EN Com.Spec.'!E16:F16 -> g
A17: Productomschrijving/ Toepassingsmogelijkheden | B17: Een enigszins dikke en zoete saus met chili en knoflook. Zonder conserveringsmiddelen.
A18: Bereiding /dosering | B18: Geen bereiding.
A19: Microbiologische data
A20: Totaal kiemgetal | B20: =IF('EN Com.Spec.'!B20=""," ",'EN Com.Spec.'!B20) -> <1000 | C20: kve/g
A21: Gisten en schimmels | B21: =IF('EN Com.Spec.'!B21=""," ",'EN Com.Spec.'!B21) -> <50 | C21: kve/g
A22: Bacillus Cereus | B22: =IF('EN Com.Spec.'!B22=""," ",'EN Com.Spec.'!B22) -> <50 | C22: kve/g
A23: Staphylococcus aureus | B23: =IF('EN Com.Spec.'!B23=""," ",(IF('EN Com.Spec.'!B23="absent","afwezig",'EN Com.Spec.'!B23))) | C23: =IF('EN Com.Spec.'!B23="","kve/g",(IF('EN Com.Spec.'!B23="absent","per 0.01 g","kve/g"))) -> kve/g
A24: Salmonella | B24: =IF('EN Com.Spec.'!B24=""," ",(IF('EN Com.Spec.'!B24="absent","afwezig",'EN Com.Spec.'!B24))) | C24: per 25 g
A25: Enterobacteriën | B25: =IF('EN Com.Spec.'!B25=""," ",'EN Com.Spec.'!B25) | C25: kve/g
A26: Analytische kenmerken
A27: Droge stof | B27: =IF('EN Com.Spec.'!B27=""," ",'EN Com.Spec.'!B27) | C27: ='EN Com.Spec.'!C27:E27 -> %
A28: Zout | B28: =IF('EN Com.Spec.'!B28=""," ",'EN Com.Spec.'!B28) -> 1,25-1,40 | C28: ='EN Com.Spec.'!C28:E28 -> %
A29: pH | B29: =IF('EN Com.Spec.'!B29=""," ",'EN Com.Spec.'!B29) -> 3,4-3,6
A30: Brix | B30: =IF('EN Com.Spec.'!B30=""," ",'EN Com.Spec.'!B30) -> 42-48 | C30: ='EN Com.Spec.'!C30:E30 -> °
A31: Zuren | B31: =IF('EN Com.Spec.'!B31=""," ",'EN Com.Spec.'!B31) -> 0,65-0,80 | C31: ='EN Com.Spec.'!C31:E31 -> %
A32: Geschikt voor: | B32: ='EN Com.Spec.'!B32 -> Halal: | C32: =IF('EN Com.Spec.'!C32="yes","ja",(IF('EN Com.Spec.'!C32="no","nee",(IF('EN Com.Spec.'!C32="yes/no","ja/nee"))))) -> nee | D32: Vegetarisch: | E32: =IF('EN Com.Spec.'!E32="yes","ja",(IF('EN Com.Spec.'!E32="no","nee",(IF('EN Com.Spec.'!E32="yes/no","ja/nee"))))) -> ja
B33: ='EN Com.Spec.'!B33 -> Kosher badatz: | C33: =IF('EN Com.Spec.'!C33="yes","ja",(IF('EN Com.Spec.'!C33="no","nee",(IF('EN Com.Spec.'!C33="yes/no","ja/nee"))))) -> nee | D33: Veganistisch: | E33: =IF('EN Com.Spec.'!E33="yes","ja",(IF('EN Com.Spec.'!E33="no","nee",(IF('EN Com.Spec.'!E33="yes/no","ja/nee"))))) -> ja
D34: Glutenvrij (gluten < 20 ppm) | E34: =IF('EN Com.Spec.'!E34="yes","ja",(IF('EN Com.Spec.'!E34="no","nee",(IF('EN Com.Spec.'!E34="yes/no","ja/nee"))))) -> nee
A35: GMO | B35: Alle gebruikte grondstoffen zijn non GMO of non GMO by IP volgens verklaringen van onze leveranciers
A36: Codering op verpakking | B36: Codering op fles: BB : DD.MM.YYYY, HH:MM LYYJJJL4. D - dag, M - maand, Y - jaar, HH - uur, MM - Minuut, Lot nummer, L4 - Lijn nummer
A37: Houdbaarheid/bewaarcondities | B37: =IF('EN Com.Spec.'!B37=""," ",'EN Com.Spec.'!B37) -> 12 | C37: maanden na productie. | D37: =IF('EN Com.Spec.'!D37=""," ",'EN Com.Spec.'!D37) -> 4 | E37: weken na openen.
A38: Verpakkings soort/afmeting | C38: primair | D38: secundair | E38: tertiair
B39: soort | C39: PET fles + PP dop + label | D39: Karton tray + krimpfolie
B40: afmetingen (wxdxh) | C40: 67,1 x 93,5 x 260 | D40: 209 x 192 x 263
B41: gewicht (g) | C41: Pet 42, PP 4,5 | D41: 42 g + 26 g
B42: % recyclebaar | C42: 1 | D42: 1
A43: Land van herkomst | B43: Productie in: | C43: EU
B44: Het product is geproduceerd i.o.m. de Nederlandse en EU-wetgeving.

Sheet FR Com.Spec.
D1: Date d'entrée en vigueur: | E1: =IF('EN Com.Spec.'!E1=""," ",'EN Com.Spec.'!E1) -> 43579
B2: INFORMATION DE PRODUIT
A3: Nom du produit | B3: HNZ Sweet chili sauce (6 x 875ml)
A4: Numéro d'article | B4: =IF('EN Com.Spec.'!B4:E4=""," ",'EN Com.Spec.'!B4:E4) -> 76014441
A5: Poids net / poids net égoutté | B5: =IF('EN Com.Spec.'!B5:E5=""," ",'EN Com.Spec.'!B5:E5) -> 6 x 875 ml (e 1070 g)
A6: Code EAN | B6: Boîte | C6: =IF('EN Com.Spec.'!C6=""," ",'EN Com.Spec.'!C6) -> 5000157142818 | D6: Carton | E6: 8715700208152
A7: Déclaration d'ingrédients | B7: Sucre, eau, vinaigre d'alcool, purée de tomates, ail, fécule de maïs modifiée, poivrons, piment 1,5%, sel, épices.
A8: Valeur nutritive | B8: par 100 grammes de produit | D8: par 100 grammes de produit préparé
A9: Énergie | B9: =IF('EN Com.Spec.'!B9=""," ",'EN Com.Spec.'!B9) -> 762/179 | C9: kJ / kcal | D9: =IF('EN Com.Spec.'!D9=""," ",'EN Com.Spec.'!D9) | E9: kJ / kcal
A10: Lipides | B10: =IF('EN Com.Spec.'!B10=""," ",'EN Com.Spec.'!B10) -> 0.1 | C10: g | D10: =IF('EN Com.Spec.'!D10=""," ",'EN Com.Spec.'!D10) | E10: g
A11: (dont lipides saturés) | B11: =IF('EN Com.Spec.'!B11=""," ",'EN Com.Spec.'!B11) -> 0 | C11: g | D11: =IF('EN Com.Spec.'!D11=""," ",'EN Com.Spec.'!D11) | E11: g
A12: Glucides | B12: =IF('EN Com.Spec.'!B12=""," ",'EN Com.Spec.'!B12) -> 44 | C12: g | D12: =IF('EN Com.Spec.'!D12=""," ",'EN Com.Spec.'!D12) | E12: g
A13: (dont sucres) | B13: =IF('EN Com.Spec.'!B13=""," ",'EN Com.Spec.'!B13) -> 42 | C13: g | D13: =IF('EN Com.Spec.'!D13=""," ",'EN Com.Spec.'!D13) | E13: g
A14: Protéines | B14: =IF('EN Com.Spec.'!B14=""," ",'EN Com.Spec.'!B14) -> 0.4 | C14: g | D14: =IF('EN Com.Spec.'!D14=""," ",'EN Com.Spec.'!D14) | E14: g
A15: Sel | B15: =IF('EN Com.Spec.'!B15=""," ",'EN Com.Spec.'!B15) -> 1.3 | C15: g | D15: =IF('EN Com.Spec.'!D15=""," ",'EN Com.Spec.'!D15) | E15: g
A16: Fibres alimentaires | B16: =IF('EN Com.Spec.'!B16=""," ",'EN Com.Spec.'!B16) -> 0.4 | C16: g | D16: =IF('EN Com.Spec.'!D16=""," ",'EN Com.Spec.'!D16) | E16: g
A17: Description du produit / Possibilités d'application | B17: Une sauce légèrement épaisse et douce avec du piment et de l'ail. Sans conservateur.
A18: Préparation / dosage | B18: Pas de préparation
A19: Données microbiologiques
A20: Teneur bactérienne totale | B20: =IF('EN Com.Spec.'!B20=""," ",'EN Com.Spec.'!B20) -> <1000 | C20: cfu/g
A21: Levures et moisissures | B21: =IF('EN Com.Spec.'!B21=""," ",'EN Com.Spec.'!B21) -> <50 | C21: cfu/g
A22: Lactobacilles | B22: =IF('EN Com.Spec.'!B22=""," ",'EN Com.Spec.'!B22) -> <50 | C22: cfu/g
A23: Staphylococcus aureus | B23: =IF('EN Com.Spec.'!B23=""," ",(IF('EN Com.Spec.'!B23="absent","absence",'EN Com.Spec.'!B23))) | C23: =IF('EN Com.Spec.'!B23="","cfu/g",(IF('EN Com.Spec.'!B23="absent","pour 0.01 g","cfu/g"))) -> cfu/g
A24: Salmonelles | B24: =IF('EN Com.Spec.'!B24=""," ",(IF('EN Com.Spec.'!B24="absent","absence",'EN Com.Spec.'!B24))) | C24: pour 25 g
A25: Entérobactéries | B25: =IF('EN Com.Spec.'!B25=""," ",'EN Com.Spec.'!B25) | C25: cfu/g
A26: Caractéristiques analytiques
A27: Matière sèche | B27: =IF('EN Com.Spec.'!B27=""," ",'EN Com.Spec.'!B27) | C27: ='EN Com.Spec.'!C27:E27 -> %
A28: Sel | B28: =IF('EN Com.Spec.'!B28=""," ",'EN Com.Spec.'!B28) -> 1,25-1,40 | C28: ='EN Com.Spec.'!C28:E28 -> %
A29: pH | B29: =IF('EN Com.Spec.'!B29=""," ",'EN Com.Spec.'!B29) -> 3,4-3,6
A30: Brix | B30: =IF('EN Com.Spec.'!B30=""," ",'EN Com.Spec.'!B30) -> 42-48 | C30: ='EN Com.Spec.'!C30:E30 -> °
A31: Acide | B31: =IF('EN Com.Spec.'!B31=""," ",'EN Com.Spec.'!B31) -> 0,65-0,80 | C31: ='EN Com.Spec.'!C31:E31 -> %
A32: Convient au : | B32: Halal: | C32: =IF('EN Com.Spec.'!C32="yes","Oui",(IF('EN Com.Spec.'!C32="no","Non",(IF('EN Com.Spec.'!C32="yes/no","Qui/Non"))))) -> Non | D32: Végétarien | E32: =IF('EN Com.Spec.'!E32="yes","Oui",(IF('EN Com.Spec.'!E32="no","Non",(IF('EN Com.Spec.'!E32="yes/no","Qui/Non "))))) -> Oui
B33: Casher badatz: | C33: =IF('EN Com.Spec.'!C33="yes","Oui",(IF('EN Com.Spec.'!C33="no","Non",(IF('EN Com.Spec.'!C33="yes/no","Qui/Non"))))) -> Non | D33: Végétalien | E33: =IF('EN Com.Spec.'!E33="yes","Oui",(IF('EN Com.Spec.'!E33="no","Non",(IF('EN Com.Spec.'!E33="yes/no","Qui/Non "))))) -> Oui
D34: Sans gluten (gluten <20 ppm) | E34: =IF('EN Com.Spec.'!E34="yes","Oui",(IF('EN Com.Spec.'!E34="no","Non",(IF('EN Com.Spec.'!E34="yes/no","Qui/Non "))))) -> Non
A35: OGM | B35: Toutes les substances utilisées ne contiennent pas d'OGM ou d'OGM à identité préservée suivant les déclarations de nos fournisseurs.
A36: Code sur l'emballage | B36: Codage en bouteille: BB: JJ.MM.AAAA, HH: MM LYYYYYL4. J - jour, M - mois, J - année, HH - heure, MM - minute, numéro de lot, L4 - numéro de ligne
A37: Conservation / conditions de conservation | B37: =IF('EN Com.Spec.'!B37=""," ",'EN Com.Spec.'!B37) -> 12 | C37: mois à partir production. | D37: =IF('EN Com.Spec.'!D37=""," ",'EN Com.Spec.'!D37) -> 4 | E37: semaines, suivant l’ouverture au réfrigérateur.
A38: Type d'emballage / dimensions | C38: primaire | D38: secondaire | E38: tertiaire
B39: type | C39: PE-HD boîte | D39: Carton + label
B40: dimensions | C40: =IF('EN Com.Spec.'!C40=""," ",'EN Com.Spec.'!C40) -> 67,1 x 93,5 x 260 | D40: =IF('EN Com.Spec.'!D40=""," ",'EN Com.Spec.'!D40) -> 209 x 192 x 263 | E40: =IF('EN Com.Spec.'!E40=""," ",'EN Com.Spec.'!E40)
B41: poids | C41: =IF('EN Com.Spec.'!C41=""," ",'EN Com.Spec.'!C41) -> Pet 42, PP 4,5 | D41: =IF('EN Com.Spec.'!D41=""," ",'EN Com.Spec.'!D41) -> 42 g + 26 g | E41: =IF('EN Com.Spec.'!E41=""," ",'EN Com.Spec.'!E41)
B42: % recycleble | C42: =IF('EN Com.Spec.'!C42=""," ",'EN Com.Spec.'!C42) -> 1 | D42: =IF('EN Com.Spec.'!D42=""," ",'EN Com.Spec.'!D42) -> 1 | E42: =IF('EN Com.Spec.'!E42=""," ",'EN Com.Spec.'!E42)
A43: Pays d'origine | B43: Fabriqué: | C43: ='EN Com.Spec.'!C43:E43 -> EU
B44: Le produit est fabriqué e.a. selon la législation européenne.

Sheet Allergens EN NL FR
A1: Effectivedate/Ingangsdatum/Date d'entrée en vigueur: | B1: =IF('EN Com.Spec.'!E1=""," ",'EN Com.Spec.'!E1) -> 43579
B2: ALLERGENS
A3: Product name | B3: =IF('EN Com.Spec.'!B3:E3=""," ",'EN Com.Spec.'!B3:E3) -> HNZ Sweet chili sauce (6 x 875ml)
A4: Article numbre | B4: =IF('EN Com.Spec.'!B4:E4=""," ",'EN Com.Spec.'!B4:E4) -> 76014441
A5: Net weight | B5: =IF('EN Com.Spec.'!B5:E5=""," ",'EN Com.Spec.'!B5:E5) -> 6 x 875 ml (e 1070 g)
A6: EAN code/Code EAN | B6: =IF('EN Com.Spec.'!C6=""," ",'EN Com.Spec.'!C6) -> 5000157142818
B7: + / - / *
A8: Cereals containing gluten (i.e. wheat, rye, barley, oats, spelt, kamut or their hybridised strains) and products thereof / Glutenbevattende granen (zoals tarwe, rogge, gerst, haver, spelt en kamut, of de hybride soorten daarvan en afgeleide producten / Céreals contenant du gluten à savoir: blé, seigle, orge, avoine, épeautre, kamut ou leurs souches hybridées et les produits à base de céréales. | B8: -
A9: Crustaceans and products thereof/ Schaaldieren en afgeleide producten / Crustacés et produits à base de crustacés | B9: -
A10: Eggs and products thereof/ Eieren en afgeleide producten / Oeufs et produits à base d' oeufs | B10: -
A11: Fish and products thereof / Vis en afgeleide producten / Poissons et produits à base de poissons. | B11: -
A12: Peanuts and products thereof/ Aardnoten en afgeleide producten / Arachides et produits à base d'arachides | B12: -
A13: Soybeans and products thereof/ Sojabonen en afgeleide producten / Soja et produits à base de soja | B13: -
A14: Milk and products thereof (including lactose)/ Melk en afgeleide producten/ (inclusief lactose) / Lait et produits à base de lait (y compris le lactose) | B14: -
A15: Nuts (i.e. almonds, hazelnuts, walnuts, cashews, pecan nuts, Brazil nuts, pistachio nuts, macadamia nuts and Queensland nuts), and products thereof / Noten (zoals amandelen, hazelnoten, walnoten, cashewnoten, pecannoten, paranoten, pistachenoten, macadamianoten,(of queensland nut Macadamia ternifoliea) en afgeleide producten / Fruits à coque (amandes, noisettes, pistaches, noix, noix de cajou, noix de pecan, noix du Brésil, noix de Macadamia et noix de Queensland) et produits à base de ces fruits | B15: -
A16: Celery and products thereof / Selderij en afgeleide producten / Céleri et produits à base de céleri | B16: -
A17: Mustard and products thereof/ Mosterd en afgeleide producten / Moutarde et produits à base de moutarde | B17: -
A18: Sesame seeds and products thereof / Sesamzaad en afgeleide producten / Graines de sésame et produits à base de graines de sésame | B18: -
A19: Sulphur dioxide and sulphites at concentrations of more than 10 mg/kg or 10 mg/litre expressed as SO 2 / Zwaveldioxide en sulfieten in concentraties van meer dan 10 mg/kg of 10 mg/ liter uitgedrukt als SO2 / Anhydride de sulfureux et sulfite en concentration d' au moins 10 mg/kg, ou 10 mg/litre exprimées en SO2 | B19: -
... A21: Molluscs and products thereof/ Weekdieren en afgeleide producten / Mollusques et produits à base de mollusques | B21: -
A23: + allergen is present
A24: - allergen is absent
A25: (*) may contain allergen
